BEGIN:VCALENDAR
VERSION:2.0
PRODID:-//Club Vosgien Mulhouse &amp; Crêtes - ECPv6.15.19//NONSGML v1.0//EN
CALSCALE:GREGORIAN
METHOD:PUBLISH
X-ORIGINAL-URL:https://club-vosgien-mulhouse.fr
X-WR-CALDESC:Évènements pour Club Vosgien Mulhouse &amp; Crêtes
REFRESH-INTERVAL;VALUE=DURATION:PT1H
X-Robots-Tag:noindex
X-PUBLISHED-TTL:PT1H
BEGIN:VTIMEZONE
TZID:Europe/Paris
BEGIN:DAYLIGHT
TZOFFSETFROM:+0100
TZOFFSETTO:+0200
TZNAME:CEST
DTSTART:20170326T010000
END:DAYLIGHT
BEGIN:STANDARD
TZOFFSETFROM:+0200
TZOFFSETTO:+0100
TZNAME:CET
DTSTART:20171029T010000
END:STANDARD
BEGIN:DAYLIGHT
TZOFFSETFROM:+0100
TZOFFSETTO:+0200
TZNAME:CEST
DTSTART:20180325T010000
END:DAYLIGHT
BEGIN:STANDARD
TZOFFSETFROM:+0200
TZOFFSETTO:+0100
TZNAME:CET
DTSTART:20181028T010000
END:STANDARD
BEGIN:DAYLIGHT
TZOFFSETFROM:+0100
TZOFFSETTO:+0200
TZNAME:CEST
DTSTART:20190331T010000
END:DAYLIGHT
BEGIN:STANDARD
TZOFFSETFROM:+0200
TZOFFSETTO:+0100
TZNAME:CET
DTSTART:20191027T010000
END:STANDARD
END:VTIMEZONE
BEGIN:VEVENT
DTSTART;VALUE=DATE:20180415
DTEND;VALUE=DATE:20180416
DTSTAMP:20260421T120048
CREATED:20171012T150917Z
LAST-MODIFIED:20180409T083445Z
UID:10000017-1523750400-1523836799@club-vosgien-mulhouse.fr
SUMMARY:MARCHE D'ORIENTATION VOSGES
DESCRIPTION:Marche d’orientation à Ramonchamp (Vosges)\nCette marche d’orientation est organisée par le Club Vosgien Le Thillot. En effet\, les associations locales du Club Vosgien se relaient toute l’année pour organiser les marches d’orientation à tour de rôle. \nEt le 15 avril\, c’est dans le secteur de Ramonchamp – situé à 2\,6 km du Thillot\, sur le versant lorrain des Vosges\, qu’aura lieu cette marche.\nSi vous voulez en savoir plus sur ce qu’est une marche d’orientation\, cliquez ici. Surtout\, n’hésitez pas à venir en famille ! \n\n\n\n\nOrganisation de la journée\nDépart : Salle des Fêtes de Ramonchamp (voir photo ci-dessous) – Grande Rue. Inscriptions : de 8h30 à 12h00\nTarif : 2 € – Gratuit pour les enfants de moins de 14 ans (Enfants accompagnés) \nRestauration : 11 € à la salle des fêtes. Au menu : Bœuf bourguignon – Gratin dauphinois – Fromage – Salade de fruits – Café (Boissons non comprises) \n\n\n\n\n \n 
URL:https://club-vosgien-mulhouse.fr/sortie/marche-dorientation-vosges/
LOCATION:Ramonchamp\, 1 Grande Rue\, Ramonchamp\, 88160\, France
CATEGORIES:Marche d'orientation
ORGANIZER;CN="Jean-Luc ANTOINE":MAILTO:antoinejla@gmail.com
END:VEVENT
END:VCALENDAR