BEGIN:VCALENDAR
VERSION:2.0
PRODID:-//Club Vosgien Mulhouse &amp; Crêtes - ECPv6.15.19//NONSGML v1.0//EN
CALSCALE:GREGORIAN
METHOD:PUBLISH
X-ORIGINAL-URL:https://club-vosgien-mulhouse.fr
X-WR-CALDESC:Évènements pour Club Vosgien Mulhouse &amp; Crêtes
REFRESH-INTERVAL;VALUE=DURATION:PT1H
X-Robots-Tag:noindex
X-PUBLISHED-TTL:PT1H
BEGIN:VTIMEZONE
TZID:Europe/Paris
BEGIN:DAYLIGHT
TZOFFSETFROM:+0100
TZOFFSETTO:+0200
TZNAME:CEST
DTSTART:20170326T010000
END:DAYLIGHT
BEGIN:STANDARD
TZOFFSETFROM:+0200
TZOFFSETTO:+0100
TZNAME:CET
DTSTART:20171029T010000
END:STANDARD
BEGIN:DAYLIGHT
TZOFFSETFROM:+0100
TZOFFSETTO:+0200
TZNAME:CEST
DTSTART:20180325T010000
END:DAYLIGHT
BEGIN:STANDARD
TZOFFSETFROM:+0200
TZOFFSETTO:+0100
TZNAME:CET
DTSTART:20181028T010000
END:STANDARD
BEGIN:DAYLIGHT
TZOFFSETFROM:+0100
TZOFFSETTO:+0200
TZNAME:CEST
DTSTART:20190331T010000
END:DAYLIGHT
BEGIN:STANDARD
TZOFFSETFROM:+0200
TZOFFSETTO:+0100
TZNAME:CET
DTSTART:20191027T010000
END:STANDARD
BEGIN:DAYLIGHT
TZOFFSETFROM:+0100
TZOFFSETTO:+0200
TZNAME:CEST
DTSTART:20200329T010000
END:DAYLIGHT
BEGIN:STANDARD
TZOFFSETFROM:+0200
TZOFFSETTO:+0100
TZNAME:CET
DTSTART:20201025T010000
END:STANDARD
BEGIN:DAYLIGHT
TZOFFSETFROM:+0100
TZOFFSETTO:+0200
TZNAME:CEST
DTSTART:20210328T010000
END:DAYLIGHT
BEGIN:STANDARD
TZOFFSETFROM:+0200
TZOFFSETTO:+0100
TZNAME:CET
DTSTART:20211031T010000
END:STANDARD
END:VTIMEZONE
BEGIN:VEVENT
DTSTART;VALUE=DATE:20201114
DTEND;VALUE=DATE:20201115
DTSTAMP:20260422T120651
CREATED:20200112T180920Z
LAST-MODIFIED:20201029T140855Z
UID:10000273-1605312000-1605398399@club-vosgien-mulhouse.fr
SUMMARY:MARCHE NORDIQUE À MICHELBACH
DESCRIPTION:SORTIE ANNULÉE EN RAISON DES NOUVELLES CONTRAINTES SANITAIRES. \nLa séance de marche nordique de ce samedi de 9h à 11h se déroulera autour du plan d’eau de Michelbach.\nPour en savoir plus sur le lac de Michelbach\, cliquer sur ce lien : https://www.tourisme-alsace.com/fr/239001510-Le-Barrage-de-Michelbach.html \nDurée : 2 h. Distance : 10\,8 km. Dénivelé : 0 m \nRV à 9h00 au parking du plan d’eau de Michelbach
URL:https://club-vosgien-mulhouse.fr/sortie/marche-nordique-a-michelbach-3/
LOCATION:Plan d’eau de Michelbach\, barrage de Michelbach\, Michelbach\, 68700\, France
CATEGORIES:Marche nordique
ORGANIZER;CN="Fabien EHRET":MAILTO:fabien681@hotmail.fr
END:VEVENT
BEGIN:VEVENT
DTSTART;VALUE=DATE:20200711
DTEND;VALUE=DATE:20200712
DTSTAMP:20260422T120651
CREATED:20191218T094855Z
LAST-MODIFIED:20191218T094855Z
UID:10000202-1594425600-1594511999@club-vosgien-mulhouse.fr
SUMMARY:MARCHE NORDIQUE À MICHELBACH
DESCRIPTION:La séance de marche nordique de ce samedi 11 juillet se déroulera autour du plan d’eau de Michelbach. \nDurée : 2 h. Distance : 10 km. Dénivelé positif cumulé : 0 m.
URL:https://club-vosgien-mulhouse.fr/sortie/marche-nordique-a-michelbach-2/
LOCATION:Plan d’eau de Michelbach\, barrage de Michelbach\, Michelbach\, 68700\, France
CATEGORIES:Marche nordique
ORGANIZER;CN="Fabien EHRET":MAILTO:fabien681@hotmail.fr
END:VEVENT
BEGIN:VEVENT
DTSTART;TZID=Europe/Paris:20190810T090000
DTEND;TZID=Europe/Paris:20190810T110000
DTSTAMP:20260422T120651
CREATED:20181211T192843Z
LAST-MODIFIED:20201030T165843Z
UID:10000284-1565427600-1565434800@club-vosgien-mulhouse.fr
SUMMARY:MARCHE NORDIQUE À MICHELBACH
DESCRIPTION:Marche nordique à Michelbach.\nLa séance de marche nordique de ce samedi de 9h à 11h se déroulera autour du plan d’eau de Michelbach. Sur place\, et en fonction des participants\, il sera possible de scinder le groupe en deux\, avec des parcours légèrement différents.\nPour en savoir plus sur le lac de Michelbach\, cliquer sur ce lien : https://www.tourisme-alsace.com/fr/239001510-Le-Barrage-de-Michelbach.html \nDurée : 2 h. Distance : 10\,8 km. Dénivelé : 0 m\, pour le 1er groupe\nDurée : 2 h. Distance : 9 km. Dénivelé : 0 m\, pour le 2e groupe \nRV à 9h00 au parking du plan d’eau de Michelbach\n \n 
URL:https://club-vosgien-mulhouse.fr/sortie/marche-nordique-7/
LOCATION:Plan d’eau de Michelbach\, barrage de Michelbach\, Michelbach\, 68700\, France
CATEGORIES:Marche nordique
ORGANIZER;CN="Fabien EHRET":MAILTO:fabien681@hotmail.fr
END:VEVENT
BEGIN:VEVENT
DTSTART;VALUE=DATE:20180217
DTEND;VALUE=DATE:20180218
DTSTAMP:20260422T120651
CREATED:20171128T164902Z
LAST-MODIFIED:20171128T165133Z
UID:10000033-1518825600-1518911999@club-vosgien-mulhouse.fr
SUMMARY:MARCHE NORDIQUE - PLAINE
DESCRIPTION:Matin : marche nordique au plan d’eau de Michelbach \nPremier groupe :\nDurée : 2 h. Distance : 10 km. Pas de dénivelé. \nDeuxième groupe :\nDurée : 2 h. Distance : 9 km. Pas de dénivelé.
URL:https://club-vosgien-mulhouse.fr/sortie/marche-nordique-plaine/
LOCATION:Plan d’eau de Michelbach\, barrage de Michelbach\, Michelbach\, 68700\, France
CATEGORIES:Marche nordique
ORGANIZER;CN="Fabien EHRET":MAILTO:fabien681@hotmail.fr
END:VEVENT
END:VCALENDAR